BEGIN:VCALENDAR
VERSION:2.0
PRODID:-// - ECPv6.15.20//NONSGML v1.0//EN
CALSCALE:GREGORIAN
METHOD:PUBLISH
X-ORIGINAL-URL:https://tkdc.laszlovarga.de
X-WR-CALDESC:Veranstaltungen für 
REFRESH-INTERVAL;VALUE=DURATION:PT1H
X-Robots-Tag:noindex
X-PUBLISHED-TTL:PT1H
BEGIN:VTIMEZONE
TZID:Europe/Helsinki
BEGIN:DAYLIGHT
TZOFFSETFROM:+0200
TZOFFSETTO:+0300
TZNAME:EEST
DTSTART:20250330T010000
END:DAYLIGHT
BEGIN:STANDARD
TZOFFSETFROM:+0300
TZOFFSETTO:+0200
TZNAME:EET
DTSTART:20251026T010000
END:STANDARD
BEGIN:DAYLIGHT
TZOFFSETFROM:+0200
TZOFFSETTO:+0300
TZNAME:EEST
DTSTART:20260329T010000
END:DAYLIGHT
BEGIN:STANDARD
TZOFFSETFROM:+0300
TZOFFSETTO:+0200
TZNAME:EET
DTSTART:20261025T010000
END:STANDARD
BEGIN:DAYLIGHT
TZOFFSETFROM:+0200
TZOFFSETTO:+0300
TZNAME:EEST
DTSTART:20270328T010000
END:DAYLIGHT
BEGIN:STANDARD
TZOFFSETFROM:+0300
TZOFFSETTO:+0200
TZNAME:EET
DTSTART:20271031T010000
END:STANDARD
END:VTIMEZONE
BEGIN:VEVENT
DTSTART;TZID=Europe/Helsinki:20260321T080000
DTEND;TZID=Europe/Helsinki:20260321T090000
DTSTAMP:20260421T064827
CREATED:20260213T073046Z
LAST-MODIFIED:20260330T123252Z
UID:3345-1774080000-1774083600@tkdc.laszlovarga.de
SUMMARY:Einzeltraining Walchensee
DESCRIPTION:Einzelstunde | geschlossene Veranstaltung
URL:https://tkdc.laszlovarga.de/event/training-mittenwald-erw-50-34/
LOCATION:Walchensee\, Walchensee\, Bayern\, 82432\, Germany
ORGANIZER;CN="TaeKwon-Do Center LaVa":MAILTO:info [at] tkd-lava.de
END:VEVENT
BEGIN:VEVENT
DTSTART;TZID=Europe/Helsinki:20260321T100000
DTEND;TZID=Europe/Helsinki:20260321T110000
DTSTAMP:20260421T064827
CREATED:20260213T073133Z
LAST-MODIFIED:20260213T073134Z
UID:3347-1774087200-1774090800@tkdc.laszlovarga.de
SUMMARY:Training Mittenwald | alle
DESCRIPTION:alle Graduierungen und Altersgruppen
URL:https://tkdc.laszlovarga.de/event/training-mittenwald-alle-9/
LOCATION:TaeKwon-Do Center LaVa\, Dekan-Karl-Platz 5\, Mittenwald\, Bayern\, 82481\, Germany
ORGANIZER;CN="TaeKwon-Do Center LaVa":MAILTO:info [at] tkd-lava.de
END:VEVENT
BEGIN:VEVENT
DTSTART;TZID=Europe/Helsinki:20260321T140000
DTEND;TZID=Europe/Helsinki:20260321T170000
DTSTAMP:20260421T064827
CREATED:20260213T073909Z
LAST-MODIFIED:20260226T102855Z
UID:3349-1774101600-1774112400@tkdc.laszlovarga.de
SUMMARY:Prüfungen in Mittenwald
DESCRIPTION:Prüfungen in Mittenwald | Anmeldeschluss für´s Abendessen: 14.03.2026 \n\n\n\n\n\n\n\n\n\n\n\nVeranstalterTaeKwon-Do Center LaVaTiefkarstraße 8\, DE-82481 MittenwaldSchulleiter: László Varga\, 4. Dan\n\n\n\nLeitungLászló Varga\, 4. Dan aus Mittenwald\n\n\n\nOrtPrüfungenDekan-Karl-Straße 5\, DE-82481 MittenwaldAbendessenIndian Grill Indian RestaurantHochstraße 15\, DE-82481 Mittenwald\n\n\n\nAblauf13:00 UhrEinlass14:00 UhrBeginn Prüfungen17:00 UhrEnde\, Ehrungenab 18:00 Uhrgemeinsames Abendessen\n\n\n\nKostenPrüfungsgebühren€ 25\,00 Prüfungen zum 2. Weißgurt bis 2. Grüngurt€ 30\,00 Prüfungen zum 1. Blaugurt bis 2. RotgurtTaekwon-Do Ausweis€ 10\,00Essen & Trinken\, Abendessenauf eigene Kosten\n\n\n\nBemerkungenPrüfungen sind für alle Schüler Pflichtveranstaltungen.Für die Erstellung des Taekwon-Do Ausweises wird zuvor ein Passbild in digitaler Form benötigt.\n\n\n\n\n\n\n\n				\n			 zum Abendessen anmelden \n\n\n\n\n\n\n\n\nAnmeldeformular Abendessen >>\n \n\n\n\n\n\n\nAbendessen am 21.03.2026\n\n\n\n\n\n\n\n\n	Anmeldung zum\n		*\n	\n			\n		Abendessen am 21.03.2026	\n	\n	\n	\n\n\n	Teilnehmer\n		*\n	\n	\n	\n		Teilnehmer	\n\n	\n					\n				\n					Vorname				\n\n				Vorname			\n						\n				\n					Nachname				\n\n				Nachname			\n				\n\n\n	\n	\n\n\n	Anzahl der Begleitpersonen\n		\n	\n	\n	\n	\n\n\n	Erreichbarkeit bei Rückfragen\n		*\n	\n	\n	Bitte tragen Sie hier Ihre Telefonnummer\, E-Mail-Adresse oder Anschrift ein!\n	\n\n\n	persönliche Nachricht\n		\n	\n	\n	\n	\n\n\n	Datenschutzerklärung\n		*\n	\n						\n			 Die Datenschutzerklärung habe ich zur Kenntnis genommen. Mit der Verarbeitung und Speicherung meiner Daten zum Zweck und auf Dauer der Bearbeitung meiner Anfrage bin ich einverstanden.\n\n	\n	\n\n\n	\nsenden an: TKDC LaVa\n\n\n\n\n\n	\n			\n			\n				Falls Du menschlich bist\, lasse dieses Feld leer.			\n			\n		\n		\n\n\n\n\n\n\n\n\n\n \n\n\n\n\n\n\nBestellformular Taekwon-Do Ausweis >>\n \n\n\n\n\n\n\nAbendessen am 21.03.2026\n\n\n\n\n\n\n\n\n	Bestellung\n		*\n	\n			\n		Teakwon-Do Ausweis	\n	\n	\n	\n\n\n	Mitglied\n		*\n	\n	\n	\n		Mitglied	\n\n	\n					\n				\n					Vorname				\n\n				Vorname			\n						\n				\n					Nachname				\n\n				Nachname			\n				\n\n\n	\n	\n\n\n	Geburtsdatum\n		*\n	\n	\n	\n	\n\n\n	Erreichbarkeit bei Rückfragen\n		*\n	\n	\n	Bitte tragen Sie hier Ihre Telefonnummer\, E-Mail-Adresse oder Anschrift ein!\n	\n\n\n	persönliche Nachricht\n		\n	\n	\n	\n	\n\n\n	Bitte senden Sie ein Passbild digital an info [at] tkd-lava.de\n		*\n	\n						\n			 zur Kenntnis genommen\n\n	\n	\n\n\n	Datenschutzerklärung\n		*\n	\n						\n			 Die Datenschutzerklärung habe ich zur Kenntnis genommen. Mit der Verarbeitung und Speicherung meiner Daten zum Zweck und auf Dauer der Bearbeitung meiner Anfrage bin ich einverstanden.\n\n	\n	\n\n\n	\nsenden an: TKDC LaVa\n\n\n\n\n\n	\n			\n			\n				Falls Du menschlich bist\, lasse dieses Feld leer.
URL:https://tkdc.laszlovarga.de/event/pruefungen-in-mittenwald/
LOCATION:TaeKwon-Do Center LaVa\, Dekan-Karl-Platz 5\, Mittenwald\, Bayern\, 82481\, Germany
ORGANIZER;CN="TaeKwon-Do Center LaVa":MAILTO:info [at] tkd-lava.de
END:VEVENT
END:VCALENDAR