BEGIN:VCALENDAR
VERSION:2.0
PRODID:-// - ECPv6.15.20//NONSGML v1.0//EN
CALSCALE:GREGORIAN
METHOD:PUBLISH
X-ORIGINAL-URL:https://tkdc.laszlovarga.de
X-WR-CALDESC:Veranstaltungen für 
REFRESH-INTERVAL;VALUE=DURATION:PT1H
X-Robots-Tag:noindex
X-PUBLISHED-TTL:PT1H
BEGIN:VTIMEZONE
TZID:Europe/Helsinki
BEGIN:DAYLIGHT
TZOFFSETFROM:+0200
TZOFFSETTO:+0300
TZNAME:EEST
DTSTART:20250330T010000
END:DAYLIGHT
BEGIN:STANDARD
TZOFFSETFROM:+0300
TZOFFSETTO:+0200
TZNAME:EET
DTSTART:20251026T010000
END:STANDARD
BEGIN:DAYLIGHT
TZOFFSETFROM:+0200
TZOFFSETTO:+0300
TZNAME:EEST
DTSTART:20260329T010000
END:DAYLIGHT
BEGIN:STANDARD
TZOFFSETFROM:+0300
TZOFFSETTO:+0200
TZNAME:EET
DTSTART:20261025T010000
END:STANDARD
BEGIN:DAYLIGHT
TZOFFSETFROM:+0200
TZOFFSETTO:+0300
TZNAME:EEST
DTSTART:20270328T010000
END:DAYLIGHT
BEGIN:STANDARD
TZOFFSETFROM:+0300
TZOFFSETTO:+0200
TZNAME:EET
DTSTART:20271031T010000
END:STANDARD
END:VTIMEZONE
BEGIN:VEVENT
DTSTART;TZID=Europe/Helsinki:20260325T083000
DTEND;TZID=Europe/Helsinki:20260325T093000
DTSTAMP:20260421T005510
CREATED:20260213T082906Z
LAST-MODIFIED:20260213T082907Z
UID:3364-1774427400-1774431000@tkdc.laszlovarga.de
SUMMARY:Training Mittenwald | Erw. 50+
DESCRIPTION:Erwachsene 50+ | Anmeldeschluss: 24.03.2026 10:00 Uhr
URL:https://tkdc.laszlovarga.de/event/training-mittenwald-erw-50-35/
LOCATION:TaeKwon-Do Center LaVa\, Dekan-Karl-Platz 5\, Mittenwald\, Bayern\, 82481\, Germany
ORGANIZER;CN="TaeKwon-Do Center LaVa":MAILTO:info [at] tkd-lava.de
END:VEVENT
BEGIN:VEVENT
DTSTART;TZID=Europe/Helsinki:20260325T151500
DTEND;TZID=Europe/Helsinki:20260325T154500
DTSTAMP:20260421T005510
CREATED:20260213T082955Z
LAST-MODIFIED:20260213T082957Z
UID:3366-1774451700-1774453500@tkdc.laszlovarga.de
SUMMARY:Kurs Mittenwald | OGTS
DESCRIPTION:bewegte Pause | Schüler der offenen Ganztagsschule Mittenwald
URL:https://tkdc.laszlovarga.de/event/kurs-mittenwald-ogts-9/
LOCATION:Karwendel Grund- und Mittelschule\, Mauthweg 11\, Mittenwald\, Bayern\, 82481\, Germany
ORGANIZER;CN="TaeKwon-Do Center LaVa":MAILTO:info [at] tkd-lava.de
END:VEVENT
BEGIN:VEVENT
DTSTART;TZID=Europe/Helsinki:20260325T163000
DTEND;TZID=Europe/Helsinki:20260325T170000
DTSTAMP:20260421T005510
CREATED:20260213T083036Z
LAST-MODIFIED:20260213T083038Z
UID:3368-1774456200-1774458000@tkdc.laszlovarga.de
SUMMARY:Training Mittenwald | Kin. 4-7
DESCRIPTION:Kinder von 4 bis 7 Jahre
URL:https://tkdc.laszlovarga.de/event/training-mittenwald-kin-4-7-27/
LOCATION:TaeKwon-Do Center LaVa\, Dekan-Karl-Platz 5\, Mittenwald\, Bayern\, 82481\, Germany
ORGANIZER;CN="TaeKwon-Do Center LaVa":MAILTO:info [at] tkd-lava.de
END:VEVENT
BEGIN:VEVENT
DTSTART;TZID=Europe/Helsinki:20260325T173000
DTEND;TZID=Europe/Helsinki:20260325T183000
DTSTAMP:20260421T005510
CREATED:20260213T083120Z
LAST-MODIFIED:20260213T083122Z
UID:3370-1774459800-1774463400@tkdc.laszlovarga.de
SUMMARY:Training Mittenwald | Kin.\, Jugendl.
DESCRIPTION:Kinder ab 8 Jahre\, Jugendliche
URL:https://tkdc.laszlovarga.de/event/training-mittenwald-kin-jugendl-28/
LOCATION:TaeKwon-Do Center LaVa\, Dekan-Karl-Platz 5\, Mittenwald\, Bayern\, 82481\, Germany
ORGANIZER;CN="TaeKwon-Do Center LaVa":MAILTO:info [at] tkd-lava.de
END:VEVENT
BEGIN:VEVENT
DTSTART;TZID=Europe/Helsinki:20260325T190000
DTEND;TZID=Europe/Helsinki:20260325T200000
DTSTAMP:20260421T005510
CREATED:20260213T083218Z
LAST-MODIFIED:20260213T083219Z
UID:3372-1774465200-1774468800@tkdc.laszlovarga.de
SUMMARY:Training Mittenwald | Jugendl.\, Erw.
DESCRIPTION:Jugendliche ab 14 Jahre\, Schüler ab Blaugurt\, Erwachsene
URL:https://tkdc.laszlovarga.de/event/training-mittenwald-jugendl-erw-27/
LOCATION:TaeKwon-Do Center LaVa\, Dekan-Karl-Platz 5\, Mittenwald\, Bayern\, 82481\, Germany
ORGANIZER;CN="TaeKwon-Do Center LaVa":MAILTO:info [at] tkd-lava.de
END:VEVENT
END:VCALENDAR