BEGIN:VCALENDAR
VERSION:2.0
PRODID:-// - ECPv6.15.20//NONSGML v1.0//EN
CALSCALE:GREGORIAN
METHOD:PUBLISH
X-ORIGINAL-URL:https://tkdc.laszlovarga.de
X-WR-CALDESC:Veranstaltungen für 
REFRESH-INTERVAL;VALUE=DURATION:PT1H
X-Robots-Tag:noindex
X-PUBLISHED-TTL:PT1H
BEGIN:VTIMEZONE
TZID:Europe/Helsinki
BEGIN:DAYLIGHT
TZOFFSETFROM:+0200
TZOFFSETTO:+0300
TZNAME:EEST
DTSTART:20250330T010000
END:DAYLIGHT
BEGIN:STANDARD
TZOFFSETFROM:+0300
TZOFFSETTO:+0200
TZNAME:EET
DTSTART:20251026T010000
END:STANDARD
BEGIN:DAYLIGHT
TZOFFSETFROM:+0200
TZOFFSETTO:+0300
TZNAME:EEST
DTSTART:20260329T010000
END:DAYLIGHT
BEGIN:STANDARD
TZOFFSETFROM:+0300
TZOFFSETTO:+0200
TZNAME:EET
DTSTART:20261025T010000
END:STANDARD
BEGIN:DAYLIGHT
TZOFFSETFROM:+0200
TZOFFSETTO:+0300
TZNAME:EEST
DTSTART:20270328T010000
END:DAYLIGHT
BEGIN:STANDARD
TZOFFSETFROM:+0300
TZOFFSETTO:+0200
TZNAME:EET
DTSTART:20271031T010000
END:STANDARD
END:VTIMEZONE
BEGIN:VEVENT
DTSTART;TZID=Europe/Helsinki:20260326T083000
DTEND;TZID=Europe/Helsinki:20260326T093000
DTSTAMP:20260420T232424
CREATED:20260213T083340Z
LAST-MODIFIED:20260213T083342Z
UID:3374-1774513800-1774517400@tkdc.laszlovarga.de
SUMMARY:Training Mittenwald | Erw. 50+
DESCRIPTION:Erwachsene 50+ | Anmeldeschluss: 25.03.2026 10:00 Uhr
URL:https://tkdc.laszlovarga.de/event/training-mittenwald-erw-50-36/
LOCATION:TaeKwon-Do Center LaVa\, Dekan-Karl-Platz 5\, Mittenwald\, Bayern\, 82481\, Germany
ORGANIZER;CN="TaeKwon-Do Center LaVa":MAILTO:info [at] tkd-lava.de
END:VEVENT
BEGIN:VEVENT
DTSTART;TZID=Europe/Helsinki:20260326T163000
DTEND;TZID=Europe/Helsinki:20260326T170000
DTSTAMP:20260420T232424
CREATED:20260213T083523Z
LAST-MODIFIED:20260213T083525Z
UID:3378-1774542600-1774544400@tkdc.laszlovarga.de
SUMMARY:Training Mittenwald | Kin. 4-7
DESCRIPTION:Kinder von 4 bis 7 Jahre
URL:https://tkdc.laszlovarga.de/event/training-mittenwald-kin-4-7-28/
LOCATION:TaeKwon-Do Center LaVa\, Dekan-Karl-Platz 5\, Mittenwald\, Bayern\, 82481\, Germany
ORGANIZER;CN="TaeKwon-Do Center LaVa":MAILTO:info [at] tkd-lava.de
END:VEVENT
BEGIN:VEVENT
DTSTART;TZID=Europe/Helsinki:20260326T173000
DTEND;TZID=Europe/Helsinki:20260326T183000
DTSTAMP:20260420T232424
CREATED:20260213T083614Z
LAST-MODIFIED:20260213T083615Z
UID:3380-1774546200-1774549800@tkdc.laszlovarga.de
SUMMARY:Training Mittenwald | Kin.\, Jugendl.
DESCRIPTION:Kinder ab 8 Jahre\, Jugendliche
URL:https://tkdc.laszlovarga.de/event/training-mittenwald-kin-jugendl-29/
LOCATION:TaeKwon-Do Center LaVa\, Dekan-Karl-Platz 5\, Mittenwald\, Bayern\, 82481\, Germany
ORGANIZER;CN="TaeKwon-Do Center LaVa":MAILTO:info [at] tkd-lava.de
END:VEVENT
BEGIN:VEVENT
DTSTART;TZID=Europe/Helsinki:20260326T190000
DTEND;TZID=Europe/Helsinki:20260326T200000
DTSTAMP:20260420T232424
CREATED:20260213T083703Z
LAST-MODIFIED:20260213T083704Z
UID:3382-1774551600-1774555200@tkdc.laszlovarga.de
SUMMARY:Training Mittenwald | Jugendl.\, Erw.
DESCRIPTION:Jugendliche ab 14 Jahre\, Schüler ab Blaugurt\, Erwachsene
URL:https://tkdc.laszlovarga.de/event/training-mittenwald-jugendl-erw-28/
LOCATION:TaeKwon-Do Center LaVa\, Dekan-Karl-Platz 5\, Mittenwald\, Bayern\, 82481\, Germany
ORGANIZER;CN="TaeKwon-Do Center LaVa":MAILTO:info [at] tkd-lava.de
END:VEVENT
END:VCALENDAR