BEGIN:VCALENDAR
VERSION:2.0
PRODID:-// - ECPv6.15.20//NONSGML v1.0//EN
CALSCALE:GREGORIAN
METHOD:PUBLISH
X-ORIGINAL-URL:https://tkdc.laszlovarga.de
X-WR-CALDESC:Veranstaltungen für 
REFRESH-INTERVAL;VALUE=DURATION:PT1H
X-Robots-Tag:noindex
X-PUBLISHED-TTL:PT1H
BEGIN:VTIMEZONE
TZID:Europe/Helsinki
BEGIN:DAYLIGHT
TZOFFSETFROM:+0200
TZOFFSETTO:+0300
TZNAME:EEST
DTSTART:20250330T010000
END:DAYLIGHT
BEGIN:STANDARD
TZOFFSETFROM:+0300
TZOFFSETTO:+0200
TZNAME:EET
DTSTART:20251026T010000
END:STANDARD
BEGIN:DAYLIGHT
TZOFFSETFROM:+0200
TZOFFSETTO:+0300
TZNAME:EEST
DTSTART:20260329T010000
END:DAYLIGHT
BEGIN:STANDARD
TZOFFSETFROM:+0300
TZOFFSETTO:+0200
TZNAME:EET
DTSTART:20261025T010000
END:STANDARD
BEGIN:DAYLIGHT
TZOFFSETFROM:+0200
TZOFFSETTO:+0300
TZNAME:EEST
DTSTART:20270328T010000
END:DAYLIGHT
BEGIN:STANDARD
TZOFFSETFROM:+0300
TZOFFSETTO:+0200
TZNAME:EET
DTSTART:20271031T010000
END:STANDARD
END:VTIMEZONE
BEGIN:VEVENT
DTSTART;TZID=Europe/Helsinki:20260328T083000
DTEND;TZID=Europe/Helsinki:20260328T093000
DTSTAMP:20260420T203658
CREATED:20260213T084158Z
LAST-MODIFIED:20260213T084200Z
UID:3392-1774686600-1774690200@tkdc.laszlovarga.de
SUMMARY:Training Mittenwald | Erw. 50+
DESCRIPTION:Erwachsene 50+ | Anmeldeschluss: 27.03.2026 10:00 Uhr
URL:https://tkdc.laszlovarga.de/event/training-mittenwald-erw-50-38/
LOCATION:TaeKwon-Do Center LaVa\, Dekan-Karl-Platz 5\, Mittenwald\, Bayern\, 82481\, Germany
ORGANIZER;CN="TaeKwon-Do Center LaVa":MAILTO:info [at] tkd-lava.de
END:VEVENT
BEGIN:VEVENT
DTSTART;TZID=Europe/Helsinki:20260328T100000
DTEND;TZID=Europe/Helsinki:20260328T110000
DTSTAMP:20260420T203658
CREATED:20260213T084245Z
LAST-MODIFIED:20260213T084246Z
UID:3394-1774692000-1774695600@tkdc.laszlovarga.de
SUMMARY:Training Mittenwald | alle
DESCRIPTION:alle Graduierungen und Altersgruppen
URL:https://tkdc.laszlovarga.de/event/training-mittenwald-alle-10/
LOCATION:TaeKwon-Do Center LaVa\, Dekan-Karl-Platz 5\, Mittenwald\, Bayern\, 82481\, Germany
ORGANIZER;CN="TaeKwon-Do Center LaVa":MAILTO:info [at] tkd-lava.de
END:VEVENT
END:VCALENDAR