BEGIN:VCALENDAR
VERSION:2.0
PRODID:-// - ECPv6.15.20//NONSGML v1.0//EN
CALSCALE:GREGORIAN
METHOD:PUBLISH
X-ORIGINAL-URL:https://tkdc.laszlovarga.de
X-WR-CALDESC:Veranstaltungen für 
REFRESH-INTERVAL;VALUE=DURATION:PT1H
X-Robots-Tag:noindex
X-PUBLISHED-TTL:PT1H
BEGIN:VTIMEZONE
TZID:Europe/Helsinki
BEGIN:DAYLIGHT
TZOFFSETFROM:+0200
TZOFFSETTO:+0300
TZNAME:EEST
DTSTART:20250330T010000
END:DAYLIGHT
BEGIN:STANDARD
TZOFFSETFROM:+0300
TZOFFSETTO:+0200
TZNAME:EET
DTSTART:20251026T010000
END:STANDARD
BEGIN:DAYLIGHT
TZOFFSETFROM:+0200
TZOFFSETTO:+0300
TZNAME:EEST
DTSTART:20260329T010000
END:DAYLIGHT
BEGIN:STANDARD
TZOFFSETFROM:+0300
TZOFFSETTO:+0200
TZNAME:EET
DTSTART:20261025T010000
END:STANDARD
BEGIN:DAYLIGHT
TZOFFSETFROM:+0200
TZOFFSETTO:+0300
TZNAME:EEST
DTSTART:20270328T010000
END:DAYLIGHT
BEGIN:STANDARD
TZOFFSETFROM:+0300
TZOFFSETTO:+0200
TZNAME:EET
DTSTART:20271031T010000
END:STANDARD
END:VTIMEZONE
BEGIN:VEVENT
DTSTART;TZID=Europe/Helsinki:20260424T083000
DTEND;TZID=Europe/Helsinki:20260424T093000
DTSTAMP:20260420T172154
CREATED:20260330T134419Z
LAST-MODIFIED:20260330T134420Z
UID:3732-1777019400-1777023000@tkdc.laszlovarga.de
SUMMARY:Training Mittenwald | Erw. 50+
DESCRIPTION:Erwachsene 50+ | Anmeldeschluss: 23.04.2026 10:00 Uhr
URL:https://tkdc.laszlovarga.de/event/training-mittenwald-erw-50-17/
LOCATION:TaeKwon-Do Center LaVa\, Dekan-Karl-Platz 5\, Mittenwald\, Bayern\, 82481\, Germany
ORGANIZER;CN="TaeKwon-Do Center LaVa":MAILTO:info [at] tkd-lava.de
END:VEVENT
BEGIN:VEVENT
DTSTART;TZID=Europe/Helsinki:20260424T163000
DTEND;TZID=Europe/Helsinki:20260424T170000
DTSTAMP:20260420T172154
CREATED:20260330T134456Z
LAST-MODIFIED:20260330T134457Z
UID:3734-1777048200-1777050000@tkdc.laszlovarga.de
SUMMARY:Training Mittenwald | Kin. 4-7
DESCRIPTION:Kinder von 4 bis 7 Jahre
URL:https://tkdc.laszlovarga.de/event/training-mittenwald-kin-4-7-13/
LOCATION:TaeKwon-Do Center LaVa\, Dekan-Karl-Platz 5\, Mittenwald\, Bayern\, 82481\, Germany
ORGANIZER;CN="TaeKwon-Do Center LaVa":MAILTO:info [at] tkd-lava.de
END:VEVENT
BEGIN:VEVENT
DTSTART;TZID=Europe/Helsinki:20260424T173000
DTEND;TZID=Europe/Helsinki:20260424T183000
DTSTAMP:20260420T172154
CREATED:20260330T134536Z
LAST-MODIFIED:20260330T134537Z
UID:3736-1777051800-1777055400@tkdc.laszlovarga.de
SUMMARY:Training Mittenwald | Kin.\, Jugendl.
DESCRIPTION:Kinder ab 8 Jahre\, Jugendliche
URL:https://tkdc.laszlovarga.de/event/training-mittenwald-kin-jugendl-14/
LOCATION:TaeKwon-Do Center LaVa\, Dekan-Karl-Platz 5\, Mittenwald\, Bayern\, 82481\, Germany
ORGANIZER;CN="TaeKwon-Do Center LaVa":MAILTO:info [at] tkd-lava.de
END:VEVENT
BEGIN:VEVENT
DTSTART;TZID=Europe/Helsinki:20260424T190000
DTEND;TZID=Europe/Helsinki:20260424T200000
DTSTAMP:20260420T172154
CREATED:20260330T134626Z
LAST-MODIFIED:20260330T134629Z
UID:3738-1777057200-1777060800@tkdc.laszlovarga.de
SUMMARY:Training Mittenwald | Jugendl.\, Erw.
DESCRIPTION:Jugendliche ab 14 Jahre\, Schüler ab Blaugurt\, Erwachsene
URL:https://tkdc.laszlovarga.de/event/training-mittenwald-jugendl-erw-14/
LOCATION:TaeKwon-Do Center LaVa\, Dekan-Karl-Platz 5\, Mittenwald\, Bayern\, 82481\, Germany
ORGANIZER;CN="TaeKwon-Do Center LaVa":MAILTO:info [at] tkd-lava.de
END:VEVENT
END:VCALENDAR