BEGIN:VCALENDAR
VERSION:2.0
PRODID:-// - ECPv6.15.20//NONSGML v1.0//EN
CALSCALE:GREGORIAN
METHOD:PUBLISH
X-ORIGINAL-URL:https://tkdc.laszlovarga.de
X-WR-CALDESC:Veranstaltungen für 
REFRESH-INTERVAL;VALUE=DURATION:PT1H
X-Robots-Tag:noindex
X-PUBLISHED-TTL:PT1H
BEGIN:VTIMEZONE
TZID:Europe/Helsinki
BEGIN:DAYLIGHT
TZOFFSETFROM:+0200
TZOFFSETTO:+0300
TZNAME:EEST
DTSTART:20250330T010000
END:DAYLIGHT
BEGIN:STANDARD
TZOFFSETFROM:+0300
TZOFFSETTO:+0200
TZNAME:EET
DTSTART:20251026T010000
END:STANDARD
BEGIN:DAYLIGHT
TZOFFSETFROM:+0200
TZOFFSETTO:+0300
TZNAME:EEST
DTSTART:20260329T010000
END:DAYLIGHT
BEGIN:STANDARD
TZOFFSETFROM:+0300
TZOFFSETTO:+0200
TZNAME:EET
DTSTART:20261025T010000
END:STANDARD
BEGIN:DAYLIGHT
TZOFFSETFROM:+0200
TZOFFSETTO:+0300
TZNAME:EEST
DTSTART:20270328T010000
END:DAYLIGHT
BEGIN:STANDARD
TZOFFSETFROM:+0300
TZOFFSETTO:+0200
TZNAME:EET
DTSTART:20271031T010000
END:STANDARD
END:VTIMEZONE
BEGIN:VEVENT
DTSTART;TZID=Europe/Helsinki:20260425T080000
DTEND;TZID=Europe/Helsinki:20260425T090000
DTSTAMP:20260420T173832
CREATED:20260330T134725Z
LAST-MODIFIED:20260330T134726Z
UID:3740-1777104000-1777107600@tkdc.laszlovarga.de
SUMMARY:Einzeltraining Walchensee
DESCRIPTION:Einzelstunde | geschlossene Veranstaltung
URL:https://tkdc.laszlovarga.de/event/einzeltraining-walchensee/
LOCATION:Walchensee\, Walchensee\, Bayern\, 82432\, Germany
ORGANIZER;CN="TaeKwon-Do Center LaVa":MAILTO:info [at] tkd-lava.de
END:VEVENT
BEGIN:VEVENT
DTSTART;TZID=Europe/Helsinki:20260425T100000
DTEND;TZID=Europe/Helsinki:20260425T110000
DTSTAMP:20260420T173832
CREATED:20260330T134802Z
LAST-MODIFIED:20260330T134803Z
UID:3742-1777111200-1777114800@tkdc.laszlovarga.de
SUMMARY:Training Mittenwald | alle
DESCRIPTION:alle Graduierungen und Altersgruppen
URL:https://tkdc.laszlovarga.de/event/training-mittenwald-alle-4/
LOCATION:TaeKwon-Do Center LaVa\, Dekan-Karl-Platz 5\, Mittenwald\, Bayern\, 82481\, Germany
ORGANIZER;CN="TaeKwon-Do Center LaVa":MAILTO:info [at] tkd-lava.de
END:VEVENT
END:VCALENDAR