BEGIN:VCALENDAR
VERSION:2.0
PRODID:-// - ECPv6.15.20//NONSGML v1.0//EN
CALSCALE:GREGORIAN
METHOD:PUBLISH
X-ORIGINAL-URL:https://tkdc.laszlovarga.de
X-WR-CALDESC:Veranstaltungen für 
REFRESH-INTERVAL;VALUE=DURATION:PT1H
X-Robots-Tag:noindex
X-PUBLISHED-TTL:PT1H
BEGIN:VTIMEZONE
TZID:Europe/Helsinki
BEGIN:DAYLIGHT
TZOFFSETFROM:+0200
TZOFFSETTO:+0300
TZNAME:EEST
DTSTART:20250330T010000
END:DAYLIGHT
BEGIN:STANDARD
TZOFFSETFROM:+0300
TZOFFSETTO:+0200
TZNAME:EET
DTSTART:20251026T010000
END:STANDARD
BEGIN:DAYLIGHT
TZOFFSETFROM:+0200
TZOFFSETTO:+0300
TZNAME:EEST
DTSTART:20260329T010000
END:DAYLIGHT
BEGIN:STANDARD
TZOFFSETFROM:+0300
TZOFFSETTO:+0200
TZNAME:EET
DTSTART:20261025T010000
END:STANDARD
BEGIN:DAYLIGHT
TZOFFSETFROM:+0200
TZOFFSETTO:+0300
TZNAME:EEST
DTSTART:20270328T010000
END:DAYLIGHT
BEGIN:STANDARD
TZOFFSETFROM:+0300
TZOFFSETTO:+0200
TZNAME:EET
DTSTART:20271031T010000
END:STANDARD
END:VTIMEZONE
BEGIN:VEVENT
DTSTART;TZID=Europe/Helsinki:20260429T083000
DTEND;TZID=Europe/Helsinki:20260429T093000
DTSTAMP:20260420T174004
CREATED:20260330T134933Z
LAST-MODIFIED:20260330T134934Z
UID:3746-1777451400-1777455000@tkdc.laszlovarga.de
SUMMARY:Training Mittenwald | Erw. 50+
DESCRIPTION:Erwachsene 50+ | Anmeldeschluss: 28.04.2026 10:00 Uhr
URL:https://tkdc.laszlovarga.de/event/training-mittenwald-erw-50-18/
LOCATION:TaeKwon-Do Center LaVa\, Dekan-Karl-Platz 5\, Mittenwald\, Bayern\, 82481\, Germany
ORGANIZER;CN="TaeKwon-Do Center LaVa":MAILTO:info [at] tkd-lava.de
END:VEVENT
BEGIN:VEVENT
DTSTART;TZID=Europe/Helsinki:20260429T151500
DTEND;TZID=Europe/Helsinki:20260429T154500
DTSTAMP:20260420T174004
CREATED:20260330T135027Z
LAST-MODIFIED:20260330T135028Z
UID:3748-1777475700-1777477500@tkdc.laszlovarga.de
SUMMARY:Kurs Mittenwald | OGTS
DESCRIPTION:bewegte Pause | Schüler der offenen Ganztagsschule Mittenwald
URL:https://tkdc.laszlovarga.de/event/kurs-mittenwald-ogts-4/
LOCATION:Karwendel Grund- und Mittelschule\, Mauthweg 11\, Mittenwald\, Bayern\, 82481\, Germany
ORGANIZER;CN="TaeKwon-Do Center LaVa":MAILTO:info [at] tkd-lava.de
END:VEVENT
BEGIN:VEVENT
DTSTART;TZID=Europe/Helsinki:20260429T163000
DTEND;TZID=Europe/Helsinki:20260429T170000
DTSTAMP:20260420T174004
CREATED:20260330T135106Z
LAST-MODIFIED:20260330T135107Z
UID:3750-1777480200-1777482000@tkdc.laszlovarga.de
SUMMARY:Training Mittenwald | Kin. 4-7
DESCRIPTION:Kinder von 4 bis 7 Jahre
URL:https://tkdc.laszlovarga.de/event/training-mittenwald-kin-4-7-14/
LOCATION:TaeKwon-Do Center LaVa\, Dekan-Karl-Platz 5\, Mittenwald\, Bayern\, 82481\, Germany
ORGANIZER;CN="TaeKwon-Do Center LaVa":MAILTO:info [at] tkd-lava.de
END:VEVENT
BEGIN:VEVENT
DTSTART;TZID=Europe/Helsinki:20260429T173000
DTEND;TZID=Europe/Helsinki:20260429T183000
DTSTAMP:20260420T174004
CREATED:20260330T135150Z
LAST-MODIFIED:20260330T135151Z
UID:3752-1777483800-1777487400@tkdc.laszlovarga.de
SUMMARY:Training Mittenwald | Kin.\, Jugendl.
DESCRIPTION:Kinder ab 8 Jahre\, Jugendliche
URL:https://tkdc.laszlovarga.de/event/training-mittenwald-kin-jugendl-15/
LOCATION:TaeKwon-Do Center LaVa\, Dekan-Karl-Platz 5\, Mittenwald\, Bayern\, 82481\, Germany
ORGANIZER;CN="TaeKwon-Do Center LaVa":MAILTO:info [at] tkd-lava.de
END:VEVENT
BEGIN:VEVENT
DTSTART;TZID=Europe/Helsinki:20260429T190000
DTEND;TZID=Europe/Helsinki:20260429T200000
DTSTAMP:20260420T174004
CREATED:20260330T135237Z
LAST-MODIFIED:20260330T135238Z
UID:3754-1777489200-1777492800@tkdc.laszlovarga.de
SUMMARY:Training Mittenwald | Jugendl.\, Erw.
DESCRIPTION:Jugendliche ab 14 Jahre\, Schüler ab Blaugurt\, Erwachsene
URL:https://tkdc.laszlovarga.de/event/training-mittenwald-jugendl-erw-15/
LOCATION:TaeKwon-Do Center LaVa\, Dekan-Karl-Platz 5\, Mittenwald\, Bayern\, 82481\, Germany
ORGANIZER;CN="TaeKwon-Do Center LaVa":MAILTO:info [at] tkd-lava.de
END:VEVENT
END:VCALENDAR